BEGIN:VCALENDAR
VERSION:2.0
PRODID:SchoolNow
CALSCALE:GREGORIAN
BEGIN:VEVENT
UID:b673ab98-6478-11ef-8b40-0a58a9feac02
DTSTAMP:20250813T205235Z
SUMMARY:CDD Board Meeting Aug. 2025
LOCATION:Grace Hopper Hall 1913 Meeting Place Orlando\, FL 32814
URL;VALUE=URI:https://www.urbanorlandocdd.org/calendar/6467144/cdd-board-me
 eting-aug-2025
DTSTART:20250820T123000Z
DTEND:20250820T133000Z
ATTACH;FILENAME=2025-08-20 - Urban Orlando CDD - Final Agenda.pdf;FMTTYPE=a
 pplication/pdf:https://campussuite-storage.s3.amazonaws.com/prod/1559093/5
 95afe30-5200-11ec-a154-0aef2ec89665/2992839/6ceb842c-7887-11f0-a42f-0e539e
 40147b/file/2025-08-20 - Urban Orlando CDD - Final Agenda.pdf
END:VEVENT
END:VCALENDAR
