BEGIN:VCALENDAR
VERSION:2.0
PRODID:SchoolNow
CALSCALE:GREGORIAN
BEGIN:VEVENT
UID:9d596670-6478-11ef-8378-0a58a9feac02
DTSTAMP:20250611T162315Z
SUMMARY:CDD Board Meeting Jun. 2025
LOCATION:Grace Hopper Hall 1913 Meeting Place Orlando\, FL 32814
URL;VALUE=URI:https://www.urbanorlandocdd.org/calendar/6467142/cdd-board-me
 eting-jun-2025
DTSTART:20250618T123000Z
DTEND:20250618T133000Z
ATTACH;FILENAME=2025-06-18 - Urban Orlando CDD - Final Agenda.pdf;FMTTYPE=a
 pplication/pdf:https://campussuite-storage.s3.amazonaws.com/prod/1559093/5
 95afe30-5200-11ec-a154-0aef2ec89665/2967374/5c0cd5d0-46e0-11f0-93a6-0a58a9
 feac02/file/2025-06-18 - Urban Orlando CDD - Final Agenda.pdf
END:VEVENT
END:VCALENDAR
