BEGIN:VCALENDAR
VERSION:2.0
PRODID:SchoolNow
CALSCALE:GREGORIAN
BEGIN:VEVENT
UID:8ce0e386-6478-11ef-9324-0affe4b32ff7
DTSTAMP:20250514T202903Z
SUMMARY:CDD Board Meeting May 2025
LOCATION:Grace Hopper Hall 1913 Meeting Place Orlando\, FL 32814
URL;VALUE=URI:https://www.urbanorlandocdd.org/calendar/6467141/cdd-board-me
 eting-may-2025
DTSTART:20250521T123000Z
DTEND:20250521T133000Z
ATTACH;FILENAME=2025-05-21 - Urban Orlando CDD - Final Agenda.pdf;FMTTYPE=a
 pplication/pdf:https://campussuite-storage.s3.amazonaws.com/prod/1559093/5
 95afe30-5200-11ec-a154-0aef2ec89665/2954064/0f34b08c-3102-11f0-8745-0a58a9
 feac02/file/2025-05-21 - Urban Orlando CDD - Final Agenda.pdf
END:VEVENT
END:VCALENDAR
