BEGIN:VCALENDAR
VERSION:2.0
PRODID:SchoolNow
CALSCALE:GREGORIAN
BEGIN:VEVENT
UID:7bd8e02a-6478-11ef-a492-0e1cbf8a1c07
DTSTAMP:20250409T215740Z
SUMMARY:CDD Board Meeting Apr. 2025
LOCATION:Grace Hopper Hall 1913 Meeting Place Orlando\, FL 32814
URL;VALUE=URI:https://www.urbanorlandocdd.org/calendar/6467140/cdd-board-me
 eting-apr-2025
DTSTART:20250416T123000Z
DTEND:20250416T133000Z
ATTACH;FILENAME=2025-04-16 - Urban Orlando CDD - Final Agenda.pdf;FMTTYPE=a
 pplication/pdf:https://campussuite-storage.s3.amazonaws.com/prod/1559093/5
 95afe30-5200-11ec-a154-0aef2ec89665/2938749/a3575426-158d-11f0-8d03-0afff8
 243427/file/2025-04-16 - Urban Orlando CDD - Final Agenda.pdf
END:VEVENT
END:VCALENDAR
