BEGIN:VCALENDAR
VERSION:2.0
PRODID:SchoolNow
CALSCALE:GREGORIAN
BEGIN:VEVENT
UID:4e851882-6478-11ef-841b-0a58a9feac02
DTSTAMP:20250312T205046Z
SUMMARY:CDD Board Meeting Mar. 2025
LOCATION:Grace Hopper Hall 1913 Meeting Place Orlando\, FL 32814
URL;VALUE=URI:https://www.urbanorlandocdd.org/calendar/6467139/cdd-board-me
 eting-mar-2025
DTSTART:20250319T123000Z
DTEND:20250319T133000Z
ATTACH;FILENAME=2025-03-19 - Urban Orlando CDD - Final Agenda.pdf;FMTTYPE=a
 pplication/pdf:https://campussuite-storage.s3.amazonaws.com/prod/1559093/5
 95afe30-5200-11ec-a154-0aef2ec89665/2926416/a7ffd608-ff83-11ef-93a9-0ecf5d
 6d82b1/file/2025-03-19 - Urban Orlando CDD - Final Agenda.pdf
END:VEVENT
END:VCALENDAR
