BEGIN:VCALENDAR
VERSION:2.0
PRODID:SchoolNow
CALSCALE:GREGORIAN
BEGIN:VEVENT
UID:4239e788-6478-11ef-8412-02c629f15ce1
DTSTAMP:20250212T214759Z
SUMMARY:CDD Board Meeting Feb. 2025
LOCATION:Grace Hopper Hall 1913 Meeting Place Orlando\, FL 32814
URL;VALUE=URI:https://www.urbanorlandocdd.org/calendar/6467138/cdd-board-me
 eting-feb-2025
DTSTART:20250219T133000Z
DTEND:20250219T143000Z
ATTACH;FILENAME=2025-02-19 - Urban Orlando CDD - Final Agenda.pdf;FMTTYPE=a
 pplication/pdf:https://campussuite-storage.s3.amazonaws.com/prod/1559093/5
 95afe30-5200-11ec-a154-0aef2ec89665/2914827/01947dcc-e98b-11ef-99d4-0a58a9
 feac02/file/2025-02-19 - Urban Orlando CDD - Final Agenda.pdf
END:VEVENT
END:VCALENDAR
