BEGIN:VCALENDAR
VERSION:2.0
PRODID:SchoolNow
CALSCALE:GREGORIAN
BEGIN:VEVENT
UID:29837fd8-6478-11ef-904e-02c629f15ce1
DTSTAMP:20250109T104809Z
SUMMARY:CDD Board Meeting Jan. 2025
LOCATION:Grace Hopper Hall 1913 Meeting Place Orlando\, FL 32814
URL;VALUE=URI:https://www.urbanorlandocdd.org/calendar/6467137/cdd-board-me
 eting-jan-2025
DTSTART:20250115T133000Z
DTEND:20250115T143000Z
ATTACH;FILENAME=2025-01-15 Urban Orlando CDD - Final Agenda.pdf;FMTTYPE=app
 lication/pdf:https://campussuite-storage.s3.amazonaws.com/prod/1559093/595
 afe30-5200-11ec-a154-0aef2ec89665/2900477/33c60a4c-ce77-11ef-bb71-0a58a9fe
 ac02/file/2025-01-15 Urban Orlando CDD - Final Agenda.pdf
END:VEVENT
END:VCALENDAR
