BEGIN:VCALENDAR
VERSION:2.0
PRODID:SchoolNow
CALSCALE:GREGORIAN
BEGIN:VEVENT
UID:1de03630-6478-11ef-b948-02c629f15ce1
DTSTAMP:20241204T215438Z
SUMMARY:CDD Board Meeting Dec. 2024
LOCATION:Grace Hopper Hall 1913 Meeting Place Orlando\, FL 32814
URL;VALUE=URI:https://www.urbanorlandocdd.org/calendar/6467136/cdd-board-me
 eting-dec-2024
DTSTART:20241211T133000Z
DTEND:20241211T143000Z
ATTACH;FILENAME=2024-12-11 Urban Orlando CDD - Final Agenda.pdf;FMTTYPE=app
 lication/pdf:https://campussuite-storage.s3.amazonaws.com/prod/1559093/595
 afe30-5200-11ec-a154-0aef2ec89665/2887100/58eb946c-b28a-11ef-bfe2-0a58a9fe
 ac02/file/2024-12-11 Urban Orlando CDD - Final Agenda.pdf
END:VEVENT
END:VCALENDAR
