BEGIN:VCALENDAR
VERSION:2.0
PRODID:SchoolNow
CALSCALE:GREGORIAN
BEGIN:VEVENT
UID:037896ac-6478-11ef-882e-02acf6101bbb
DTSTAMP:20241113T220019Z
SUMMARY:CDD Board Meeting Nov. 2024
LOCATION:Grace Hopper Hall 1913 Meeting Place Orlando\, FL 32814
URL;VALUE=URI:https://www.urbanorlandocdd.org/calendar/6467135/cdd-board-me
 eting-nov-2024
DTSTART:20241120T133000Z
DTEND:20241120T143000Z
ATTACH;FILENAME=2024-11-20 - Urban Orlando CDD - Final Agenda.pdf;FMTTYPE=a
 pplication/pdf:https://campussuite-storage.s3.amazonaws.com/prod/1559093/5
 95afe30-5200-11ec-a154-0aef2ec89665/2879419/a963f8a2-a20a-11ef-91cb-0affe2
 2002af/file/2024-11-20 - Urban Orlando CDD - Final Agenda.pdf
END:VEVENT
END:VCALENDAR
