BEGIN:VCALENDAR
VERSION:2.0
PRODID:SchoolNow
CALSCALE:GREGORIAN
BEGIN:VEVENT
UID:c7e86fd6-6477-11ef-a9e9-0afff91e6951
DTSTAMP:20241009T200116Z
SUMMARY:CDD Board Meeting Oct. 2024
LOCATION:Grace Hopper Hall 1913 Meeting Place Orlando\, FL 32814
URL;VALUE=URI:https://www.urbanorlandocdd.org/calendar/6467134/cdd-board-me
 eting-oct-2024
DTSTART:20241016T123000Z
DTEND:20241016T133000Z
ATTACH;FILENAME=2024-10-16 -  Urban Orlando CDD - Final Agenda.pdf;FMTTYPE=
 application/pdf:https://campussuite-storage.s3.amazonaws.com/prod/1559093/
 595afe30-5200-11ec-a154-0aef2ec89665/2860262/39dcdb0e-8679-11ef-85f2-025a5
 6834d95/file/2024-10-16 -  Urban Orlando CDD - Final Agenda.pdf
END:VEVENT
END:VCALENDAR
