BEGIN:VCALENDAR
VERSION:2.0
PRODID:SchoolNow
CALSCALE:GREGORIAN
BEGIN:VEVENT
UID:116734cc-4065-11ee-926d-0a58a9feac02
DTSTAMP:20240917T160048Z
SUMMARY:CDD Board Meeting Sept. 2024
LOCATION:Grace Hopper Hall 1913 Meeting Place Orlando\, FL 32814
URL;VALUE=URI:https://www.urbanorlandocdd.org/calendar/4604627/cdd-board-me
 eting-sept-2024
DTSTART:20240918T123000Z
DTEND:20240918T133000Z
ATTACH;FILENAME=2024-09-18 -  Urban Orlando CDD - Final Agenda.pdf;FMTTYPE=
 application/pdf:https://campussuite-storage.s3.amazonaws.com/prod/1559093/
 595afe30-5200-11ec-a154-0aef2ec89665/2847884/fb7adefa-750d-11ef-835a-0a58a
 9feac02/file/2024-09-18 -  Urban Orlando CDD - Final Agenda.pdf
END:VEVENT
END:VCALENDAR
