BEGIN:VCALENDAR
VERSION:2.0
PRODID:SchoolNow
CALSCALE:GREGORIAN
BEGIN:VEVENT
UID:0595a46c-4065-11ee-9b3b-0a58a9feac02
DTSTAMP:20240814T202626Z
SUMMARY:CDD Board Meeting Aug. 2024
LOCATION:Grace Hopper Hall 1913 Meeting Place Orlando\, FL 32814
URL;VALUE=URI:https://www.urbanorlandocdd.org/calendar/4604626/cdd-board-me
 eting-aug-2024
DTSTART:20240821T123000Z
DTEND:20240821T133000Z
ATTACH;FILENAME=2024-08-21 Urban Orlando CDD - Audit Final Agenda.pdf;FMTTY
 PE=application/pdf:https://campussuite-storage.s3.amazonaws.com/prod/15590
 93/595afe30-5200-11ec-a154-0aef2ec89665/2829884/5f421ffa-5a7b-11ef-b32c-0a
 58a9feac02/file/2024-08-21 Urban Orlando CDD - Audit Final Agenda.pdf
ATTACH;FILENAME=2024-08-21 Urban Orlando CDD - Final Agenda.pdf;FMTTYPE=app
 lication/pdf:https://campussuite-storage.s3.amazonaws.com/prod/1559093/595
 afe30-5200-11ec-a154-0aef2ec89665/2829885/5f4283b4-5a7b-11ef-be88-0a58a9fe
 ac02/file/2024-08-21 Urban Orlando CDD - Final Agenda.pdf
END:VEVENT
END:VCALENDAR
