BEGIN:VCALENDAR
VERSION:2.0
PRODID:SchoolNow
CALSCALE:GREGORIAN
BEGIN:VEVENT
UID:f8d8dc62-4064-11ee-bba7-0a58a9feac02
DTSTAMP:20240716T132601Z
SUMMARY:CDD Board Meeting Jul. 2024
LOCATION:Grace Hopper Hall 1913 Meeting Place Orlando\, FL 32814
URL;VALUE=URI:https://www.urbanorlandocdd.org/calendar/4604625/cdd-board-me
 eting-jul-2024
DTSTART:20240717T123000Z
DTEND:20240717T133000Z
ATTACH;FILENAME=2024-07-17 -  Urban Orlando CDD - Final Agenda R1.pdf;FMTTY
 PE=application/pdf:https://campussuite-storage.s3.amazonaws.com/prod/15590
 93/595afe30-5200-11ec-a154-0aef2ec89665/2818354/ea384a12-4090-11ef-ad8e-0a
 58a9feac02/file/2024-07-17 -  Urban Orlando CDD - Final Agenda R1.pdf
ATTACH;FILENAME=2024-07-17 Urban Orlando CDD - Audit Final Agenda R1.pdf;FM
 TTYPE=application/pdf:https://campussuite-storage.s3.amazonaws.com/prod/15
 59093/595afe30-5200-11ec-a154-0aef2ec89665/2818939/ec4b3ec0-4376-11ef-b928
 -0a58a9feac02/file/2024-07-17 Urban Orlando CDD - Audit Final Agenda R1.pd
 f
END:VEVENT
END:VCALENDAR
