BEGIN:VCALENDAR
VERSION:2.0
PRODID:SchoolNow
CALSCALE:GREGORIAN
BEGIN:VEVENT
UID:ebdcf4d0-4064-11ee-a5cf-0a58a9feac02
DTSTAMP:20240529T211158Z
SUMMARY:CDD Board Meeting Jun. 2024
LOCATION:Grace Hopper Hall 1913 Meeting Place Orlando\, FL 32814
URL;VALUE=URI:https://www.urbanorlandocdd.org/calendar/4604624/cdd-board-me
 eting-jun-2024
DTSTART:20240605T123000Z
DTEND:20240605T133000Z
ATTACH;FILENAME=2024-06-05 - Urban Orlando CDD - Final Agenda.pdf;FMTTYPE=a
 pplication/pdf:https://campussuite-storage.s3.amazonaws.com/prod/1559093/5
 95afe30-5200-11ec-a154-0aef2ec89665/2796606/127ed60c-1e00-11ef-83da-0ea186
 1cfe3d/file/2024-06-05 - Urban Orlando CDD - Final Agenda.pdf
END:VEVENT
END:VCALENDAR
