BEGIN:VCALENDAR
VERSION:2.0
PRODID:SchoolNow
CALSCALE:GREGORIAN
BEGIN:VEVENT
UID:e121fb1c-4064-11ee-a779-0a58a9feac02
DTSTAMP:20240508T205840Z
SUMMARY:CDD Board Meeting May 2024
LOCATION:Grace Hopper Hall 1913 Meeting Place Orlando\, FL 32814
URL;VALUE=URI:https://www.urbanorlandocdd.org/calendar/4604623/cdd-board-me
 eting-may-2024
DTSTART:20240515T123000Z
DTEND:20240515T133000Z
ATTACH;FILENAME=2024-05-15 - Urban Orlando CDD - Final Agenda.pdf;FMTTYPE=a
 pplication/pdf:https://campussuite-storage.s3.amazonaws.com/prod/1559093/5
 95afe30-5200-11ec-a154-0aef2ec89665/2783614/bc0aaef0-0d7d-11ef-ab7b-0afffe
 151d0d/file/2024-05-15 - Urban Orlando CDD - Final Agenda.pdf
END:VEVENT
END:VCALENDAR
