BEGIN:VCALENDAR
VERSION:2.0
PRODID:SchoolNow
CALSCALE:GREGORIAN
BEGIN:VEVENT
UID:d2263574-4064-11ee-87c0-0a58a9feac02
DTSTAMP:20240410T203341Z
SUMMARY:CDD Board Meeting Apr. 2024
LOCATION:Grace Hopper Hall 1913 Meeting Place Orlando\, FL 32814
URL;VALUE=URI:https://www.urbanorlandocdd.org/calendar/4604622/cdd-board-me
 eting-apr-2024
DTSTART:20240417T123000Z
DTEND:20240417T133000Z
ATTACH;FILENAME=2024-04-17 - Urban Orlando CDD - Final Agenda.pdf;FMTTYPE=a
 pplication/pdf:https://campussuite-storage.s3.amazonaws.com/prod/1559093/5
 95afe30-5200-11ec-a154-0aef2ec89665/2768922/9bc900e8-f779-11ee-9e63-0ed3e3
 59003b/file/2024-04-17 - Urban Orlando CDD - Final Agenda.pdf
END:VEVENT
END:VCALENDAR
