BEGIN:VCALENDAR
VERSION:2.0
PRODID:SchoolNow
CALSCALE:GREGORIAN
BEGIN:VEVENT
UID:b8644ec8-4064-11ee-9933-0e184cb3b38b
DTSTAMP:20240214T211453Z
SUMMARY:CDD Board Meeting Feb. 2024
LOCATION:Grace Hopper Hall 1913 Meeting Place Orlando\, FL 32814
URL;VALUE=URI:https://www.urbanorlandocdd.org/calendar/4604620/cdd-board-me
 eting-feb-2024
DTSTART:20240221T133000Z
DTEND:20240221T143000Z
ATTACH;FILENAME=2024-02-21 - Urban Orlando CDD - Final Agenda Page.pdf;FMTT
 YPE=application/pdf:https://campussuite-storage.s3.amazonaws.com/prod/1559
 093/595afe30-5200-11ec-a154-0aef2ec89665/2742232/1695007e-cb7e-11ee-97e5-0
 a58a9feac02/file/2024-02-21 - Urban Orlando CDD - Final Agenda Page.pdf
END:VEVENT
END:VCALENDAR
