BEGIN:VCALENDAR
VERSION:2.0
PRODID:SchoolNow
CALSCALE:GREGORIAN
BEGIN:VEVENT
UID:ad9e539e-4064-11ee-bf5c-0a472bfcd05f
DTSTAMP:20240110T221001Z
SUMMARY:CDD Board Meeting Jan. 2024
LOCATION:Grace Hopper Hall 1913 Meeting Place Orlando\, FL 32814
URL;VALUE=URI:https://www.urbanorlandocdd.org/calendar/4604619/cdd-board-me
 eting-jan-2024
DTSTART:20240117T133000Z
DTEND:20240117T143000Z
ATTACH;FILENAME=2024-01-17 - Urban Orlando CDD - Final Agenda.pdf;FMTTYPE=a
 pplication/pdf:https://campussuite-storage.s3.amazonaws.com/prod/1559093/5
 95afe30-5200-11ec-a154-0aef2ec89665/2724440/fc287d90-b004-11ee-8e9b-0a58a9
 feac02/file/2024-01-17 - Urban Orlando CDD - Final Agenda.pdf
END:VEVENT
END:VCALENDAR
