BEGIN:VCALENDAR
VERSION:2.0
PRODID:SchoolNow
CALSCALE:GREGORIAN
BEGIN:VEVENT
UID:a1e5a0d4-4064-11ee-9596-0a58a9feac02
DTSTAMP:20231206T212659Z
SUMMARY:CDD Board Meeting Dec. 2023
LOCATION:Grace Hopper Hall 1913 Meeting Place Orlando\, FL 32814
URL;VALUE=URI:https://www.urbanorlandocdd.org/calendar/4604618/cdd-board-me
 eting-dec-2023
DTSTART:20231213T133000Z
DTEND:20231213T143000Z
ATTACH;FILENAME=2023-12-13 - Urban Orlando CDD - Final Agenda.pdf;FMTTYPE=a
 pplication/pdf:https://campussuite-storage.s3.amazonaws.com/prod/1559093/5
 95afe30-5200-11ec-a154-0aef2ec89665/2710477/2df98104-947e-11ee-93d5-0e86d5
 3e724d/file/2023-12-13 - Urban Orlando CDD - Final Agenda.pdf
END:VEVENT
END:VCALENDAR
