BEGIN:VCALENDAR
VERSION:2.0
PRODID:SchoolNow
CALSCALE:GREGORIAN
BEGIN:VEVENT
UID:94a36dde-4064-11ee-8488-02dbf2cfd78d
DTSTAMP:20231108T152406Z
SUMMARY:CDD Board Meeting Nov. 2023
LOCATION:Grace Hopper Hall 1913 Meeting Place Orlando\, FL 32814
URL;VALUE=URI:https://www.urbanorlandocdd.org/calendar/4604617/cdd-board-me
 eting-nov-2023
DTSTART:20231115T133000Z
DTEND:20231115T143000Z
ATTACH;FILENAME=2023-11-15 Urban Orlando Agenda Package.pdf;FMTTYPE=applica
 tion/pdf:https://campussuite-storage.s3.amazonaws.com/prod/1559093/595afe3
 0-5200-11ec-a154-0aef2ec89665/2697234/d58dbe0c-7e4a-11ee-8444-0235e4e020bb
 /file/2023-11-15 Urban Orlando Agenda Package.pdf
END:VEVENT
END:VCALENDAR
