BEGIN:VCALENDAR
VERSION:2.0
PRODID:SchoolNow
CALSCALE:GREGORIAN
BEGIN:VEVENT
UID:8060ed6a-4064-11ee-a7e5-0229a6131bcf
DTSTAMP:20231010T201733Z
SUMMARY:CDD Board Meeting Oct. 2023
LOCATION:Grace Hopper Hall 1913 Meeting Place Orlando\, FL 32814
URL;VALUE=URI:https://www.urbanorlandocdd.org/calendar/4604616/cdd-board-me
 eting-oct-2023
DTSTART:20231018T123000Z
DTEND:20231018T133000Z
ATTACH;FILENAME=2023-10-18 Urban Orlando Full Final Agenda.pdf;FMTTYPE=appl
 ication/pdf:https://campussuite-storage.s3.amazonaws.com/prod/1559093/595a
 fe30-5200-11ec-a154-0aef2ec89665/2678695/07c05996-67aa-11ee-9f4d-0a58a9fea
 c02/file/2023-10-18 Urban Orlando Full Final Agenda.pdf
END:VEVENT
END:VCALENDAR
