BEGIN:VCALENDAR
VERSION:2.0
PRODID:SchoolNow
CALSCALE:GREGORIAN
BEGIN:VEVENT
UID:b0db3912-49a9-11ed-8297-0ad66604c133
DTSTAMP:20230913T194833Z
SUMMARY:CDD Board Meeting Sept. 2023
LOCATION:Grace Hopper Hall 1913 Meeting Place Orlando\, FL 32814
URL;VALUE=URI:https://www.urbanorlandocdd.org/calendar/3510371/cdd-board-me
 eting-sept-2023
DTSTART:20230920T123000Z
DTEND:20230920T133000Z
ATTACH;FILENAME=2023-09-20 - Urban Orlando CDD - Final Agenda.pdf;FMTTYPE=a
 pplication/pdf:https://campussuite-storage.s3.amazonaws.com/prod/1559093/5
 95afe30-5200-11ec-a154-0aef2ec89665/2659897/817f1872-526e-11ee-b8f4-0a58a9
 feac02/file/2023-09-20 - Urban Orlando CDD - Final Agenda.pdf
END:VEVENT
END:VCALENDAR
