BEGIN:VCALENDAR
VERSION:2.0
PRODID:SchoolNow
CALSCALE:GREGORIAN
BEGIN:VEVENT
UID:a75144e0-49a9-11ed-8afd-0ad66604c133
DTSTAMP:20230811T095539Z
SUMMARY:CDD Board Meeting Aug. 2023
LOCATION:Grace Hopper Hall 1913 Meeting Place Orlando\, FL 32814
URL;VALUE=URI:https://www.urbanorlandocdd.org/calendar/3510370/cdd-board-me
 eting-aug-2023
DTSTART:20230816T123000Z
DTEND:20230816T133000Z
ATTACH;FILENAME=2023-08-16 Agenda.pdf;FMTTYPE=application/pdf:https://campu
 ssuite-storage.s3.amazonaws.com/prod/1559093/595afe30-5200-11ec-a154-0aef2
 ec89665/2640866/326fc8e0-382d-11ee-87b1-0a58a9feac02/file/2023-08-16 Agend
 a.pdf
END:VEVENT
END:VCALENDAR
