BEGIN:VCALENDAR
VERSION:2.0
PRODID:SchoolNow
CALSCALE:GREGORIAN
BEGIN:VEVENT
UID:9cf8ff1a-49a9-11ed-8508-0ad66604c133
DTSTAMP:20230706T134045Z
SUMMARY:CDD Board Meeting Jul. 2023 - Cancelled
LOCATION:Grace Hopper Hall 1913 Meeting Place Orlando\, FL 32814
URL;VALUE=URI:https://www.urbanorlandocdd.org/calendar/3510369/cdd-board-me
 eting-jul-2023
DTSTART:20230719T123000Z
DTEND:20230719T133000Z
END:VEVENT
END:VCALENDAR
